BEGIN:VCALENDAR
VERSION:1.0
BEGIN:VEVENT
URL:https://poznanlab.pl/event/10-prostych-procedur-zabiegowych-w-chirurgii-reki/
DTSTART:20221205T141500Z
DTEND:20221206T170000Z
SUMMARY:10 „prostych” procedur zabiegowych w chirurgii ręki
DESCRIPTION:For details, click here:https://poznanlab.pl/event/10-prostych-procedur-zabiegowych-w-chirurgii-reki/
LOCATION:
END:VEVENT
END:VCALENDAR